BEGIN:VCALENDAR
VERSION:2.0
PRODID:-//Milwaukee Domes Alliance - ECPv6.15.20//NONSGML v1.0//EN
CALSCALE:GREGORIAN
METHOD:PUBLISH
X-ORIGINAL-URL:https://milwaukeedomes.org
X-WR-CALDESC:Events for Milwaukee Domes Alliance
REFRESH-INTERVAL;VALUE=DURATION:PT1H
X-Robots-Tag:noindex
X-PUBLISHED-TTL:PT1H
BEGIN:VTIMEZONE
TZID:America/Chicago
BEGIN:DAYLIGHT
TZOFFSETFROM:-0600
TZOFFSETTO:-0500
TZNAME:CDT
DTSTART:20230312T080000
END:DAYLIGHT
BEGIN:STANDARD
TZOFFSETFROM:-0500
TZOFFSETTO:-0600
TZNAME:CST
DTSTART:20231105T070000
END:STANDARD
BEGIN:DAYLIGHT
TZOFFSETFROM:-0600
TZOFFSETTO:-0500
TZNAME:CDT
DTSTART:20240310T080000
END:DAYLIGHT
BEGIN:STANDARD
TZOFFSETFROM:-0500
TZOFFSETTO:-0600
TZNAME:CST
DTSTART:20241103T070000
END:STANDARD
BEGIN:DAYLIGHT
TZOFFSETFROM:-0600
TZOFFSETTO:-0500
TZNAME:CDT
DTSTART:20250309T080000
END:DAYLIGHT
BEGIN:STANDARD
TZOFFSETFROM:-0500
TZOFFSETTO:-0600
TZNAME:CST
DTSTART:20251102T070000
END:STANDARD
END:VTIMEZONE
BEGIN:VEVENT
DTSTART;VALUE=DATE:20240330
DTEND;VALUE=DATE:20240528
DTSTAMP:20260420T112142
CREATED:20240104T190328Z
LAST-MODIFIED:20240326T171241Z
UID:10001073-1711756800-1716854399@milwaukeedomes.org
SUMMARY:Spring Show: Abstracting Georgia O'Keeffe
DESCRIPTION:This floral tribute to the art of Georgia O’Keeffe unfolds in the show dome\, revealing the blooms of Spring in all their glory. Immerse yourself in this unique exhibit and identify the flowers that bring you joy. Will it be hydrangeas\, spring bulbs\, or poppies? Discover the arrival of Spring at The Domes! \nMore information
URL:https://milwaukeedomes.org/event/show-dome-theme-spring-show/
CATEGORIES:Show Dome Theme
ATTACH;FMTTYPE=image/png:https://milwaukeedomes.org/wp-content/uploads/2024/01/DOMES-2024_SpringShow_Creative.png
END:VEVENT
BEGIN:VEVENT
DTSTART;TZID=America/Chicago:20240423T100000
DTEND;TZID=America/Chicago:20240423T113000
DTSTAMP:20260420T112142
CREATED:20240212T223544Z
LAST-MODIFIED:20240212T223702Z
UID:10001090-1713866400-1713871800@milwaukeedomes.org
SUMMARY:SPARK! Program
DESCRIPTION:SPARK! at The Domes is a program that provides older adults with memory challenges and their caregivers nature-based activities and experiences at Milwaukee’s most beautiful indoor setting: the Mitchell Park Domes. \nSPARK! at The Domes is available at no cost to those experiencing memory loss and their caregivers. Each session is 1.5 hours. \nGuests are encouraged to participate each month (or as often as possible)\, with new activities and themes offered at each session. Come learn about music\, plants and nature — and share your memories of The Domes. \nCost: Free for anyone experiencing memory loss and their caregivers (pre-registration is required) \nLocation: Mitchell Park Domes Lobby \nSubmit Interest Form Here \nIf you prefer to speak with someone about the SPARK! at The Domes Program\, please call (414) 257-5600.
URL:https://milwaukeedomes.org/event/spark-program/2024-04-23/
CATEGORIES:Older Adult Program,SPARK!
ATTACH;FMTTYPE=image/jpeg:https://milwaukeedomes.org/wp-content/uploads/2022/07/involved_hero.jpg
END:VEVENT
END:VCALENDAR