BEGIN:VCALENDAR
VERSION:2.0
PRODID:-//Milwaukee Domes Alliance - ECPv6.15.20//NONSGML v1.0//EN
CALSCALE:GREGORIAN
METHOD:PUBLISH
X-WR-CALNAME:Milwaukee Domes Alliance
X-ORIGINAL-URL:https://milwaukeedomes.org
X-WR-CALDESC:Events for Milwaukee Domes Alliance
REFRESH-INTERVAL;VALUE=DURATION:PT1H
X-Robots-Tag:noindex
X-PUBLISHED-TTL:PT1H
BEGIN:VTIMEZONE
TZID:America/Chicago
BEGIN:DAYLIGHT
TZOFFSETFROM:-0600
TZOFFSETTO:-0500
TZNAME:CDT
DTSTART:20210314T080000
END:DAYLIGHT
BEGIN:STANDARD
TZOFFSETFROM:-0500
TZOFFSETTO:-0600
TZNAME:CST
DTSTART:20211107T070000
END:STANDARD
BEGIN:DAYLIGHT
TZOFFSETFROM:-0600
TZOFFSETTO:-0500
TZNAME:CDT
DTSTART:20220313T080000
END:DAYLIGHT
BEGIN:STANDARD
TZOFFSETFROM:-0500
TZOFFSETTO:-0600
TZNAME:CST
DTSTART:20221106T070000
END:STANDARD
BEGIN:DAYLIGHT
TZOFFSETFROM:-0600
TZOFFSETTO:-0500
TZNAME:CDT
DTSTART:20230312T080000
END:DAYLIGHT
BEGIN:STANDARD
TZOFFSETFROM:-0500
TZOFFSETTO:-0600
TZNAME:CST
DTSTART:20231105T070000
END:STANDARD
BEGIN:DAYLIGHT
TZOFFSETFROM:-0600
TZOFFSETTO:-0500
TZNAME:CDT
DTSTART:20240310T080000
END:DAYLIGHT
BEGIN:STANDARD
TZOFFSETFROM:-0500
TZOFFSETTO:-0600
TZNAME:CST
DTSTART:20241103T070000
END:STANDARD
BEGIN:DAYLIGHT
TZOFFSETFROM:-0600
TZOFFSETTO:-0500
TZNAME:CDT
DTSTART:20250309T080000
END:DAYLIGHT
BEGIN:STANDARD
TZOFFSETFROM:-0500
TZOFFSETTO:-0600
TZNAME:CST
DTSTART:20251102T070000
END:STANDARD
BEGIN:DAYLIGHT
TZOFFSETFROM:-0600
TZOFFSETTO:-0500
TZNAME:CDT
DTSTART:20260308T080000
END:DAYLIGHT
BEGIN:STANDARD
TZOFFSETFROM:-0500
TZOFFSETTO:-0600
TZNAME:CST
DTSTART:20261101T070000
END:STANDARD
BEGIN:DAYLIGHT
TZOFFSETFROM:-0600
TZOFFSETTO:-0500
TZNAME:CDT
DTSTART:20270314T080000
END:DAYLIGHT
BEGIN:STANDARD
TZOFFSETFROM:-0500
TZOFFSETTO:-0600
TZNAME:CST
DTSTART:20271107T070000
END:STANDARD
END:VTIMEZONE
BEGIN:VEVENT
DTSTART;TZID=America/Chicago:20260116T180000
DTEND;TZID=America/Chicago:20260116T200000
DTSTAMP:20260424T095416
CREATED:20251118T192939Z
LAST-MODIFIED:20260116T141749Z
UID:10001276-1768586400-1768593600@milwaukeedomes.org
SUMMARY:Member Only: Train Show Preview
DESCRIPTION:THIS EVENT HAS SOLD OUT \nAll members aboard! \nBe the first to experience this year’s highly anticipated Train Show during an exclusive members-only preview. \nFriday\, January 16 | 6–8 PM\nMitchell Park Domes \nEvery winter\, the Show Dome is transformed into a miniature train world\, featuring:\n• 600 feet of looping train tracks\n• A brand-new theme each year\n• Unique props and over 4\,000 plants creating a stunning seasonal display \nThis year’s theme is another exciting surprise—designed to delight longtime fans and first-time viewers alike. Experience the Domes after hours and watch the exhibit come alive with a dazzling nighttime light display\, accompanied by live music. \nAdmission is FREE for all current members. Registration is required. \nPlease RSVP by January 9 and include the number of guests attending (based on your membership level). This event is expected to sell out\, so we encourage early registration. \nReach out to Info@MilwaukeeDomes.org with any questions. \n 
URL:https://milwaukeedomes.org/event/members-only-train-show-preview-3/
CATEGORIES:Featured Events,General,Member Only
ATTACH;FMTTYPE=image/jpeg:https://milwaukeedomes.org/wp-content/uploads/2023/02/Train-Show-2023-3.jpg
END:VEVENT
BEGIN:VEVENT
DTSTART;TZID=America/Chicago:20251121T180000
DTEND;TZID=America/Chicago:20251121T200000
DTSTAMP:20260424T095416
CREATED:20251030T155150Z
LAST-MODIFIED:20251118T194416Z
UID:10001234-1763748000-1763755200@milwaukeedomes.org
SUMMARY:Member and Volunteer Appreciation Night: Holiday Show (SOLD OUT)
DESCRIPTION:This exclusive event for Milwaukee Domes Alliance members and volunteers will feature an opportunity for you to: \n\nBe the first to see this year’s beautiful “Twelve Days of Christmas: A Playful Parody” themed floral show.\nEnjoy light refreshments.\nVisit the Education Center.\nGet a jump start on holiday shopping at the Domes gift shop.\nExperience the Domes at night with a dazzling light show.\n\n* This event is sold out\, check out our free with admission/ free to members holiday events here and consider attending our member only preview night for the upcoming Train Show!
URL:https://milwaukeedomes.org/event/member-and-volunteer-appreciation-night-holiday-show-2/
CATEGORIES:Featured Events,Holiday,Member Only
ATTACH;FMTTYPE=image/jpeg:https://milwaukeedomes.org/wp-content/uploads/2024/10/https___cdn.evbuc_.com_images_621492379_665371513023_1_original.jpg
END:VEVENT
BEGIN:VEVENT
DTSTART;TZID=America/Chicago:20250117T180000
DTEND;TZID=America/Chicago:20250117T200000
DTSTAMP:20260424T095416
CREATED:20241225T022405Z
LAST-MODIFIED:20250116T030943Z
UID:10001185-1737136800-1737144000@milwaukeedomes.org
SUMMARY:Member's Only: Train Show Preview (SOLD OUT)
DESCRIPTION:Join us for a special free event for our members. See our popular Train Show installation a night before it opens to the public! Plus\, a chance to experience The Domes at night. \n 
URL:https://milwaukeedomes.org/event/members-only-train-show-preview-2/
CATEGORIES:General,Member Only
ATTACH;FMTTYPE=image/jpeg:https://milwaukeedomes.org/wp-content/uploads/2023/02/Train-Show-2023-3.jpg
END:VEVENT
BEGIN:VEVENT
DTSTART;TZID=America/Chicago:20241122T180000
DTEND;TZID=America/Chicago:20241122T200000
DTSTAMP:20260424T095416
CREATED:20241007T165349Z
LAST-MODIFIED:20241112T194717Z
UID:10001124-1732298400-1732305600@milwaukeedomes.org
SUMMARY:Member and Volunteer Appreciation Night: Holiday Show
DESCRIPTION:This exclusive event for Milwaukee Domes Alliance members and volunteers will feature an opportunity for you to: \n\nBe the first to see this year’s beautiful “Holiday Parade” themed floral show.\nEnjoy light refreshments.\nVisit the Education Center.\nGet a jump start on holiday shopping at The Domes gift shop.\nExperience The Domes at night with a dazzling light show.\n\nRegistration is required. Please RSVP by Nov. 18 at noon with the number of guests equal to your membership. Admission is free for all current members and volunteers. \nNot a member? Become one by Nov. 8th to attend this event. Get started! Please note this event may hit capacity before the Nov. 8th deadline.
URL:https://milwaukeedomes.org/event/member-and-volunteer-appreciation-night-holiday-show/
CATEGORIES:Featured Events,Holiday,Member Only
ATTACH;FMTTYPE=image/jpeg:https://milwaukeedomes.org/wp-content/uploads/2024/10/https___cdn.evbuc_.com_images_621492379_665371513023_1_original.jpg
END:VEVENT
BEGIN:VEVENT
DTSTART;TZID=America/Chicago:20240119T060000
DTEND;TZID=America/Chicago:20240119T200000
DTSTAMP:20260424T095416
CREATED:20231221T214903Z
LAST-MODIFIED:20240118T001621Z
UID:10001064-1705644000-1705694400@milwaukeedomes.org
SUMMARY:Member's Only: Train Show Preview (SOLD OUT)
DESCRIPTION:Join us for a special free event for our members. See our popular Train Show installation a night before it opens to the public! Plus\, a chance to experience The Domes at night.
URL:https://milwaukeedomes.org/event/members-only-train-show-preview/
CATEGORIES:General,Member Only
ATTACH;FMTTYPE=image/jpeg:https://milwaukeedomes.org/wp-content/uploads/2023/02/Train-Show-2023-3.jpg
END:VEVENT
BEGIN:VEVENT
DTSTART;TZID=America/Chicago:20230113T180000
DTEND;TZID=America/Chicago:20230113T200000
DTSTAMP:20260424T095416
CREATED:20221227T230038Z
LAST-MODIFIED:20221227T230038Z
UID:10000334-1673632800-1673640000@milwaukeedomes.org
SUMMARY:Member-Only Train Show Preview
DESCRIPTION:This exclusive event for Milwaukee Domes Alliance members will feature an opportunity for you to: \n\nBe the first to see this year’s Train Show: “Plant-etary Orbit”.\nExperience The Domes at night and be dazzled by a light show!\nShop for gifts including train themed items\, with 10% off purchases.\nEnjoy a sweet treat and music by “Dulcimers and Stuff”.\n\nThis preview event is from 6pm-8pm at the Mitchell Park Domes. Registration is required. \nPlease RSVP by Jan. 11th at 10PM with the number of guests equal to your membership. It is likely that this event will sell out\, so be sure to register early. \nAdmission is free for all current members. \nNot a member? Become one by Jan. 11th to attend this event. Get started! Please note the event may hit capacity prior to Jan. 11th. \nQuestion about your membership? Email our Membership Manager
URL:https://milwaukeedomes.org/event/member-only-train-show-preview-2-2-2/
LOCATION:Mitchell Park Domes
CATEGORIES:Featured Events,Member Only
ATTACH;FMTTYPE=image/jpeg:https://milwaukeedomes.org/wp-content/uploads/2022/10/Member-Only-Train-Show-Thumbnail-scaled-e1667596360964.jpeg
ORGANIZER;CN="Milwaukee Domes Alliance":MAILTO:FOD@MilwaukeeDomes.org
END:VEVENT
BEGIN:VEVENT
DTSTART;TZID=America/Chicago:20221118T180000
DTEND;TZID=America/Chicago:20221118T200000
DTSTAMP:20260424T095416
CREATED:20221104T185228Z
LAST-MODIFIED:20221104T211605Z
UID:10000333-1668794400-1668801600@milwaukeedomes.org
SUMMARY:Member-Only Holiday Show Preview
DESCRIPTION:Thank you for being a Milwaukee Domes Alliance member! Save the date for the upcoming member-only events. \n\n\nMember-Only Event\nHoliday Show Preview Night: November 18\, 2022\, 6-8PM \nWatch your email for registration information for these events. \n\n\nMember-Only Lane\nThe Friends member-only lane will start back up during the Holiday Show (weekends only). This is a wonderful member-only benefit that allows you to skip the line during peak periods. Watch for the sign and enter through the handicap door. \nQuestion about your membership? Email our Membership Manager
URL:https://milwaukeedomes.org/event/member-only-holiday-show-preview/
CATEGORIES:Featured Events,Member Only
ATTACH;FMTTYPE=image/jpeg:https://milwaukeedomes.org/wp-content/uploads/2022/09/Holiday-Show-Image-e1667596444729.jpg
END:VEVENT
END:VCALENDAR