BEGIN:VCALENDAR
VERSION:2.0
PRODID:-//Milwaukee Domes Alliance - ECPv6.15.20//NONSGML v1.0//EN
CALSCALE:GREGORIAN
METHOD:PUBLISH
X-ORIGINAL-URL:https://milwaukeedomes.org
X-WR-CALDESC:Events for Milwaukee Domes Alliance
REFRESH-INTERVAL;VALUE=DURATION:PT1H
X-Robots-Tag:noindex
X-PUBLISHED-TTL:PT1H
BEGIN:VTIMEZONE
TZID:America/Chicago
BEGIN:DAYLIGHT
TZOFFSETFROM:-0600
TZOFFSETTO:-0500
TZNAME:CDT
DTSTART:20240310T080000
END:DAYLIGHT
BEGIN:STANDARD
TZOFFSETFROM:-0500
TZOFFSETTO:-0600
TZNAME:CST
DTSTART:20241103T070000
END:STANDARD
BEGIN:DAYLIGHT
TZOFFSETFROM:-0600
TZOFFSETTO:-0500
TZNAME:CDT
DTSTART:20250309T080000
END:DAYLIGHT
BEGIN:STANDARD
TZOFFSETFROM:-0500
TZOFFSETTO:-0600
TZNAME:CST
DTSTART:20251102T070000
END:STANDARD
BEGIN:DAYLIGHT
TZOFFSETFROM:-0600
TZOFFSETTO:-0500
TZNAME:CDT
DTSTART:20260308T080000
END:DAYLIGHT
BEGIN:STANDARD
TZOFFSETFROM:-0500
TZOFFSETTO:-0600
TZNAME:CST
DTSTART:20261101T070000
END:STANDARD
BEGIN:DAYLIGHT
TZOFFSETFROM:-0600
TZOFFSETTO:-0500
TZNAME:CDT
DTSTART:20270314T080000
END:DAYLIGHT
BEGIN:STANDARD
TZOFFSETFROM:-0500
TZOFFSETTO:-0600
TZNAME:CST
DTSTART:20271107T070000
END:STANDARD
END:VTIMEZONE
BEGIN:VEVENT
DTSTART;TZID=America/Chicago:20260422T100000
DTEND;TZID=America/Chicago:20260422T103000
DTSTAMP:20260422T215340
CREATED:20231221T213052Z
LAST-MODIFIED:20231221T214115Z
UID:10000695-1776852000-1776853800@milwaukeedomes.org
SUMMARY:Storytime at The Domes
DESCRIPTION:The Friends host storytime every Wednesday. Join us for bilingual (Spanish/English) storytime the last Wednesday of the month! No pre-registration required. \nCost: Included with admission; Free to Milwaukee Domes Alliance members (become a member)
URL:https://milwaukeedomes.org/event/storytime-at-the-domes-2-2-2/2026-04-22/
LOCATION:Mitchell Park Domes
CATEGORIES:Ongoing Programs,Storytime
ATTACH;FMTTYPE=image/jpeg:https://milwaukeedomes.org/wp-content/uploads/2022/09/storytime.jpg
ORGANIZER;CN="Milwaukee Domes Alliance":MAILTO:FOD@MilwaukeeDomes.org
END:VEVENT
BEGIN:VEVENT
DTSTART;TZID=America/Chicago:20260415T100000
DTEND;TZID=America/Chicago:20260415T103000
DTSTAMP:20260422T215340
CREATED:20231221T213052Z
LAST-MODIFIED:20231221T214115Z
UID:10000694-1776247200-1776249000@milwaukeedomes.org
SUMMARY:Storytime at The Domes
DESCRIPTION:The Friends host storytime every Wednesday. Join us for bilingual (Spanish/English) storytime the last Wednesday of the month! No pre-registration required. \nCost: Included with admission; Free to Milwaukee Domes Alliance members (become a member)
URL:https://milwaukeedomes.org/event/storytime-at-the-domes-2-2-2/2026-04-15/
LOCATION:Mitchell Park Domes
CATEGORIES:Ongoing Programs,Storytime
ATTACH;FMTTYPE=image/jpeg:https://milwaukeedomes.org/wp-content/uploads/2022/09/storytime.jpg
ORGANIZER;CN="Milwaukee Domes Alliance":MAILTO:FOD@MilwaukeeDomes.org
END:VEVENT
BEGIN:VEVENT
DTSTART;TZID=America/Chicago:20260414T090000
DTEND;TZID=America/Chicago:20260414T200000
DTSTAMP:20260422T215340
CREATED:20260409T155946Z
LAST-MODIFIED:20260409T155946Z
UID:10001288-1776157200-1776196800@milwaukeedomes.org
SUMMARY:414 Day at the Domes
DESCRIPTION:414 Day: As part of 414 Day festivities\, Milwaukee Domes Alliance invites you to the Mitchell Park Domes to enjoy $4.14 admission all day and extended hours from 5 to 8 p.m.\nThe celebration features live music by Latin Sound System\, concessions for purchase presented by Zilli Hospitality\, and free 414-exclusive stickers available from 5 to 8 p.m. while supplies last. All entertainment is included in the 4.14 price.\n\nApril 14th: 9 a.m. to 8 p.m.\n\nSupport the Domes during our 414 Giving Day by visiting the Giving Day webpage here: https://milwaukeedomes.org/414-day/
URL:https://milwaukeedomes.org/event/414-day-at-the-domes/
LOCATION:Mitchell Park Domes
CATEGORIES:Featured Events,General
ATTACH;FMTTYPE=image/jpeg:https://milwaukeedomes.org/wp-content/uploads/2025/03/mda_banner.jpg
END:VEVENT
BEGIN:VEVENT
DTSTART;TZID=America/Chicago:20260408T100000
DTEND;TZID=America/Chicago:20260408T103000
DTSTAMP:20260422T215340
CREATED:20231221T213052Z
LAST-MODIFIED:20231221T214115Z
UID:10000693-1775642400-1775644200@milwaukeedomes.org
SUMMARY:Storytime at The Domes
DESCRIPTION:The Friends host storytime every Wednesday. Join us for bilingual (Spanish/English) storytime the last Wednesday of the month! No pre-registration required. \nCost: Included with admission; Free to Milwaukee Domes Alliance members (become a member)
URL:https://milwaukeedomes.org/event/storytime-at-the-domes-2-2-2/2026-04-08/
LOCATION:Mitchell Park Domes
CATEGORIES:Ongoing Programs,Storytime
ATTACH;FMTTYPE=image/jpeg:https://milwaukeedomes.org/wp-content/uploads/2022/09/storytime.jpg
ORGANIZER;CN="Milwaukee Domes Alliance":MAILTO:FOD@MilwaukeeDomes.org
END:VEVENT
BEGIN:VEVENT
DTSTART;TZID=America/Chicago:20260401T100000
DTEND;TZID=America/Chicago:20260401T103000
DTSTAMP:20260422T215340
CREATED:20231221T213242Z
LAST-MODIFIED:20251030T161019Z
UID:10000524-1775037600-1775039400@milwaukeedomes.org
SUMMARY:Wacky First Wednesdays
DESCRIPTION:Join the Milwaukee Domes Alliance as we explore all things that frolic and fly! Join us in the Domes lobby on the first Wednesday of each month. Monthly themes relate to our current or upcoming Show Dome theme\, plants\, wellness and the great outdoors. No pre-registration required. \nCost: Included with admission; Free to Milwaukee Domes Alliance members (become a member)
URL:https://milwaukeedomes.org/event/family-programs-event-2-2-2/2026-04-01/
LOCATION:Mitchell Park Domes
CATEGORIES:Featurette,Ongoing Programs
ATTACH;FMTTYPE=image/jpeg:https://milwaukeedomes.org/wp-content/uploads/2022/09/firstfriday.jpg
ORGANIZER;CN="Milwaukee Domes Alliance":MAILTO:FOD@MilwaukeeDomes.org
END:VEVENT
BEGIN:VEVENT
DTSTART;TZID=America/Chicago:20260325T100000
DTEND;TZID=America/Chicago:20260325T103000
DTSTAMP:20260422T215340
CREATED:20231221T213823Z
LAST-MODIFIED:20250124T194954Z
UID:10001031-1774432800-1774434600@milwaukeedomes.org
SUMMARY:Bilingual Storytime at The Domes
DESCRIPTION:The Friends host storytime every Wednesday. Join us for bilingual (Spanish/English) storytime the last Wednesday of the month! No pre-registration required. \nCost: Included with admission; Free to Milwaukee Domes Alliance members (become a member)
URL:https://milwaukeedomes.org/event/bilingualstorytime-at-the-domes/2026-03-25/
LOCATION:Mitchell Park Domes
CATEGORIES:Ongoing Programs,Storytime
ATTACH;FMTTYPE=image/jpeg:https://milwaukeedomes.org/wp-content/uploads/2022/09/storytime.jpg
ORGANIZER;CN="Milwaukee Domes Alliance":MAILTO:FOD@MilwaukeeDomes.org
END:VEVENT
BEGIN:VEVENT
DTSTART;TZID=America/Chicago:20260318T100000
DTEND;TZID=America/Chicago:20260318T103000
DTSTAMP:20260422T215340
CREATED:20231221T213052Z
LAST-MODIFIED:20231221T214115Z
UID:10000691-1773828000-1773829800@milwaukeedomes.org
SUMMARY:Storytime at The Domes
DESCRIPTION:The Friends host storytime every Wednesday. Join us for bilingual (Spanish/English) storytime the last Wednesday of the month! No pre-registration required. \nCost: Included with admission; Free to Milwaukee Domes Alliance members (become a member)
URL:https://milwaukeedomes.org/event/storytime-at-the-domes-2-2-2/2026-03-18/
LOCATION:Mitchell Park Domes
CATEGORIES:Ongoing Programs,Storytime
ATTACH;FMTTYPE=image/jpeg:https://milwaukeedomes.org/wp-content/uploads/2022/09/storytime.jpg
ORGANIZER;CN="Milwaukee Domes Alliance":MAILTO:FOD@MilwaukeeDomes.org
END:VEVENT
BEGIN:VEVENT
DTSTART;TZID=America/Chicago:20260311T100000
DTEND;TZID=America/Chicago:20260311T103000
DTSTAMP:20260422T215340
CREATED:20231221T213052Z
LAST-MODIFIED:20231221T214115Z
UID:10000690-1773223200-1773225000@milwaukeedomes.org
SUMMARY:Storytime at The Domes
DESCRIPTION:The Friends host storytime every Wednesday. Join us for bilingual (Spanish/English) storytime the last Wednesday of the month! No pre-registration required. \nCost: Included with admission; Free to Milwaukee Domes Alliance members (become a member)
URL:https://milwaukeedomes.org/event/storytime-at-the-domes-2-2-2/2026-03-11/
LOCATION:Mitchell Park Domes
CATEGORIES:Ongoing Programs,Storytime
ATTACH;FMTTYPE=image/jpeg:https://milwaukeedomes.org/wp-content/uploads/2022/09/storytime.jpg
ORGANIZER;CN="Milwaukee Domes Alliance":MAILTO:FOD@MilwaukeeDomes.org
END:VEVENT
BEGIN:VEVENT
DTSTART;TZID=America/Chicago:20260307T090000
DTEND;TZID=America/Chicago:20260307T160000
DTSTAMP:20260422T215340
CREATED:20260209T224348Z
LAST-MODIFIED:20260209T232430Z
UID:10001285-1772874000-1772899200@milwaukeedomes.org
SUMMARY:Steampunk Faire
DESCRIPTION:Step into an alternate past— under glass.\nOn Saturday\, March 7\, the Domes transform into a world where Victorian imagination meets botanical wonder. Gardens & Gears: Steampunk Faire is a one-day immersive experience that brings together art\, craft\, costume\, and creativity— all set within Milwaukee’s world tour under glass. \nWander through lush gardens filled with gears\, goggles\, and handcrafted details. Meet makers and artists inspired by the steampunk aesthetic. Admire inventive costumes\, mechanical curiosities\, and imaginative displays— all surrounded by living plants from around the world. \nWhether you’re a longtime steampunk enthusiast or simply curious\, this event invites you to explore a playful blend of history\, fantasy\, and nature — no time travel required. \nWhat to Expect\nThroughout the day\, enjoy a self-guided experience designed for discovery and delight: \n\nSteampunk-inspired art\, decor\, and displays throughout the Domes\nCreative costumes and character moments\nHandcrafted details and maker-driven design\nLiving gardens as the backdrop— where imagination and nature collide\nHighly visual\, photo-worthy moments at every turn\n\nCostumes are encouraged but not required. Come dressed to impress— or simply come curious.
URL:https://milwaukeedomes.org/event/steampunk-faire/
LOCATION:Mitchell Park Domes
CATEGORIES:Featured Events,General
ATTACH;FMTTYPE=image/jpeg:https://milwaukeedomes.org/wp-content/uploads/2025/01/475154209_1021546960016441_7600667902065266114_n.jpg
END:VEVENT
BEGIN:VEVENT
DTSTART;TZID=America/Chicago:20260304T100000
DTEND;TZID=America/Chicago:20260304T103000
DTSTAMP:20260422T215340
CREATED:20231221T213242Z
LAST-MODIFIED:20251030T161019Z
UID:10000523-1772618400-1772620200@milwaukeedomes.org
SUMMARY:Wacky First Wednesdays
DESCRIPTION:Join the Milwaukee Domes Alliance as we explore all things that frolic and fly! Join us in the Domes lobby on the first Wednesday of each month. Monthly themes relate to our current or upcoming Show Dome theme\, plants\, wellness and the great outdoors. No pre-registration required. \nCost: Included with admission; Free to Milwaukee Domes Alliance members (become a member)
URL:https://milwaukeedomes.org/event/family-programs-event-2-2-2/2026-03-04/
LOCATION:Mitchell Park Domes
CATEGORIES:Featurette,Ongoing Programs
ATTACH;FMTTYPE=image/jpeg:https://milwaukeedomes.org/wp-content/uploads/2022/09/firstfriday.jpg
ORGANIZER;CN="Milwaukee Domes Alliance":MAILTO:FOD@MilwaukeeDomes.org
END:VEVENT
BEGIN:VEVENT
DTSTART;TZID=America/Chicago:20260225T100000
DTEND;TZID=America/Chicago:20260225T103000
DTSTAMP:20260422T215340
CREATED:20231221T213823Z
LAST-MODIFIED:20250124T194954Z
UID:10001030-1772013600-1772015400@milwaukeedomes.org
SUMMARY:Bilingual Storytime at The Domes
DESCRIPTION:The Friends host storytime every Wednesday. Join us for bilingual (Spanish/English) storytime the last Wednesday of the month! No pre-registration required. \nCost: Included with admission; Free to Milwaukee Domes Alliance members (become a member)
URL:https://milwaukeedomes.org/event/bilingualstorytime-at-the-domes/2026-02-25/
LOCATION:Mitchell Park Domes
CATEGORIES:Ongoing Programs,Storytime
ATTACH;FMTTYPE=image/jpeg:https://milwaukeedomes.org/wp-content/uploads/2022/09/storytime.jpg
ORGANIZER;CN="Milwaukee Domes Alliance":MAILTO:FOD@MilwaukeeDomes.org
END:VEVENT
BEGIN:VEVENT
DTSTART;TZID=America/Chicago:20260222T090000
DTEND;TZID=America/Chicago:20260222T160000
DTSTAMP:20260422T215340
CREATED:20260209T220130Z
LAST-MODIFIED:20260211T140623Z
UID:10001283-1771750800-1771776000@milwaukeedomes.org
SUMMARY:Bonsai Show
DESCRIPTION:Step into a moment of calm and craftsmanship at the Domes. \nJoin us for a Bonsai Show in the lobby of the Mitchell Park Domes— a one-day opportunity to experience the beauty\, patience\, and artistry of bonsai. Featuring carefully cultivated trees presented by the Milwaukee Bonsai Society\, this quiet exhibition invites visitors to slow down and appreciate nature in miniature. \nBonsai is both art and meditation— a living expression of balance\, time\, and care. As you explore the Domes\, pause to admire these remarkable trees and learn more about the traditions behind them. \nWhat to Expect\n\nA curated display of bonsai trees\nPresented by the Milwaukee Bonsai Society\nA peaceful\, self-guided experience\nA thoughtful complement to your visit through the Domes\n\nA Moment to Pause\nThe Bonsai Show adds a quiet layer of reflection to your visit— a reminder that nature’s beauty can be found not only in vast landscapes\, but in the smallest\, most intentional forms. \nThe Domes are open on Sundays from 9am-4pm (last admission one hour before close).
URL:https://milwaukeedomes.org/event/bonsai-show/
LOCATION:Mitchell Park Domes
CATEGORIES:Featured Events,General
ATTACH;FMTTYPE=image/jpeg:https://milwaukeedomes.org/wp-content/uploads/2023/12/pexels-quang-nguyen-vinh-2149105-scaled.jpg
END:VEVENT
BEGIN:VEVENT
DTSTART;TZID=America/Chicago:20260218T100000
DTEND;TZID=America/Chicago:20260218T103000
DTSTAMP:20260422T215340
CREATED:20231221T213052Z
LAST-MODIFIED:20231221T214115Z
UID:10000688-1771408800-1771410600@milwaukeedomes.org
SUMMARY:Storytime at The Domes
DESCRIPTION:The Friends host storytime every Wednesday. Join us for bilingual (Spanish/English) storytime the last Wednesday of the month! No pre-registration required. \nCost: Included with admission; Free to Milwaukee Domes Alliance members (become a member)
URL:https://milwaukeedomes.org/event/storytime-at-the-domes-2-2-2/2026-02-18/
LOCATION:Mitchell Park Domes
CATEGORIES:Ongoing Programs,Storytime
ATTACH;FMTTYPE=image/jpeg:https://milwaukeedomes.org/wp-content/uploads/2022/09/storytime.jpg
ORGANIZER;CN="Milwaukee Domes Alliance":MAILTO:FOD@MilwaukeeDomes.org
END:VEVENT
BEGIN:VEVENT
DTSTART;TZID=America/Chicago:20260211T100000
DTEND;TZID=America/Chicago:20260211T103000
DTSTAMP:20260422T215340
CREATED:20231221T213052Z
LAST-MODIFIED:20231221T214115Z
UID:10000687-1770804000-1770805800@milwaukeedomes.org
SUMMARY:Storytime at The Domes
DESCRIPTION:The Friends host storytime every Wednesday. Join us for bilingual (Spanish/English) storytime the last Wednesday of the month! No pre-registration required. \nCost: Included with admission; Free to Milwaukee Domes Alliance members (become a member)
URL:https://milwaukeedomes.org/event/storytime-at-the-domes-2-2-2/2026-02-11/
LOCATION:Mitchell Park Domes
CATEGORIES:Ongoing Programs,Storytime
ATTACH;FMTTYPE=image/jpeg:https://milwaukeedomes.org/wp-content/uploads/2022/09/storytime.jpg
ORGANIZER;CN="Milwaukee Domes Alliance":MAILTO:FOD@MilwaukeeDomes.org
END:VEVENT
BEGIN:VEVENT
DTSTART;TZID=America/Chicago:20260204T100000
DTEND;TZID=America/Chicago:20260204T103000
DTSTAMP:20260422T215340
CREATED:20231221T213242Z
LAST-MODIFIED:20251030T161019Z
UID:10000522-1770199200-1770201000@milwaukeedomes.org
SUMMARY:Wacky First Wednesdays
DESCRIPTION:Join the Milwaukee Domes Alliance as we explore all things that frolic and fly! Join us in the Domes lobby on the first Wednesday of each month. Monthly themes relate to our current or upcoming Show Dome theme\, plants\, wellness and the great outdoors. No pre-registration required. \nCost: Included with admission; Free to Milwaukee Domes Alliance members (become a member)
URL:https://milwaukeedomes.org/event/family-programs-event-2-2-2/2026-02-04/
LOCATION:Mitchell Park Domes
CATEGORIES:Featurette,Ongoing Programs
ATTACH;FMTTYPE=image/jpeg:https://milwaukeedomes.org/wp-content/uploads/2022/09/firstfriday.jpg
ORGANIZER;CN="Milwaukee Domes Alliance":MAILTO:FOD@MilwaukeeDomes.org
END:VEVENT
BEGIN:VEVENT
DTSTART;VALUE=DATE:20260131
DTEND;VALUE=DATE:20260202
DTSTAMP:20260422T215340
CREATED:20260122T141807Z
LAST-MODIFIED:20260130T201143Z
UID:10001282-1769817600-1769990399@milwaukeedomes.org
SUMMARY:All-Scale Train Show
DESCRIPTION:All-Scale Train Show\nThe Train Show expands into the lobby and Greenhouse 7 for the All-Scale exhibit. Fun\, food\, and a whole bunch of model trains of all gauges. \nPerfect for families\, explorers\, and dreamers of all ages\, Modern Wonders in the Dome is your ticket to a global garden adventure filled with imagination\, discovery\, and botanical beauty—no passport required. \nPlease note that during the event additional parking will be available in the back parking lot (behind the Domes). We can’t wait to you there!
URL:https://milwaukeedomes.org/event/all-scale-train-show-2/
LOCATION:Mitchell Park Domes
ATTACH;FMTTYPE=image/jpeg:https://milwaukeedomes.org/wp-content/uploads/2026/01/IMG_0656-All-Scale-Feb-3-5-1-scaled.jpg
END:VEVENT
BEGIN:VEVENT
DTSTART;TZID=America/Chicago:20260128T100000
DTEND;TZID=America/Chicago:20260128T103000
DTSTAMP:20260422T215340
CREATED:20231221T213823Z
LAST-MODIFIED:20250124T194954Z
UID:10001029-1769594400-1769596200@milwaukeedomes.org
SUMMARY:Bilingual Storytime at The Domes
DESCRIPTION:The Friends host storytime every Wednesday. Join us for bilingual (Spanish/English) storytime the last Wednesday of the month! No pre-registration required. \nCost: Included with admission; Free to Milwaukee Domes Alliance members (become a member)
URL:https://milwaukeedomes.org/event/bilingualstorytime-at-the-domes/2026-01-28/
LOCATION:Mitchell Park Domes
CATEGORIES:Ongoing Programs,Storytime
ATTACH;FMTTYPE=image/jpeg:https://milwaukeedomes.org/wp-content/uploads/2022/09/storytime.jpg
ORGANIZER;CN="Milwaukee Domes Alliance":MAILTO:FOD@MilwaukeeDomes.org
END:VEVENT
BEGIN:VEVENT
DTSTART;TZID=America/Chicago:20260121T100000
DTEND;TZID=America/Chicago:20260121T103000
DTSTAMP:20260422T215340
CREATED:20231221T213052Z
LAST-MODIFIED:20231221T214115Z
UID:10000685-1768989600-1768991400@milwaukeedomes.org
SUMMARY:Storytime at The Domes
DESCRIPTION:The Friends host storytime every Wednesday. Join us for bilingual (Spanish/English) storytime the last Wednesday of the month! No pre-registration required. \nCost: Included with admission; Free to Milwaukee Domes Alliance members (become a member)
URL:https://milwaukeedomes.org/event/storytime-at-the-domes-2-2-2/2026-01-21/
LOCATION:Mitchell Park Domes
CATEGORIES:Ongoing Programs,Storytime
ATTACH;FMTTYPE=image/jpeg:https://milwaukeedomes.org/wp-content/uploads/2022/09/storytime.jpg
ORGANIZER;CN="Milwaukee Domes Alliance":MAILTO:FOD@MilwaukeeDomes.org
END:VEVENT
BEGIN:VEVENT
DTSTART;TZID=America/Chicago:20260117T090000
DTEND;TZID=America/Chicago:20260322T160000
DTSTAMP:20260422T215340
CREATED:20260112T153459Z
LAST-MODIFIED:20260116T141725Z
UID:10001277-1768640400-1774195200@milwaukeedomes.org
SUMMARY:2026 Train Show: Modern Wonders in the Dome
DESCRIPTION:Modern Wonders in the Dome\nJanuary 17 – March 22\, 2026 \nAll aboard for a world tour like no other—right in the heart of the Show Dome. Watch in delight as model trains wind over 600 feet of tracks through vibrant beds of pansies\, stocks and miniature azalea trees. Embark on a miniature expedition to the Seven Modern Wonders of the World–each stop is a dazzling destination! \nPerfect for families\, explorers\, and dreamers of all ages\, Modern Wonders in the Dome is your ticket to a global garden adventure filled with imagination\, discovery\, and botanical beauty—no passport required.
URL:https://milwaukeedomes.org/event/2026-train-show-modern-wonders-in-the-dome/
LOCATION:Mitchell Park Domes
ATTACH;FMTTYPE=image/jpeg:https://milwaukeedomes.org/wp-content/uploads/2026/01/Train-Show-2023-3.jpg
END:VEVENT
BEGIN:VEVENT
DTSTART;TZID=America/Chicago:20260114T100000
DTEND;TZID=America/Chicago:20260114T103000
DTSTAMP:20260422T215340
CREATED:20231221T213052Z
LAST-MODIFIED:20231221T214115Z
UID:10000684-1768384800-1768386600@milwaukeedomes.org
SUMMARY:Storytime at The Domes
DESCRIPTION:The Friends host storytime every Wednesday. Join us for bilingual (Spanish/English) storytime the last Wednesday of the month! No pre-registration required. \nCost: Included with admission; Free to Milwaukee Domes Alliance members (become a member)
URL:https://milwaukeedomes.org/event/storytime-at-the-domes-2-2-2/2026-01-14/
LOCATION:Mitchell Park Domes
CATEGORIES:Ongoing Programs,Storytime
ATTACH;FMTTYPE=image/jpeg:https://milwaukeedomes.org/wp-content/uploads/2022/09/storytime.jpg
ORGANIZER;CN="Milwaukee Domes Alliance":MAILTO:FOD@MilwaukeeDomes.org
END:VEVENT
BEGIN:VEVENT
DTSTART;TZID=America/Chicago:20260107T100000
DTEND;TZID=America/Chicago:20260107T103000
DTSTAMP:20260422T215340
CREATED:20231221T213242Z
LAST-MODIFIED:20251030T161019Z
UID:10000521-1767780000-1767781800@milwaukeedomes.org
SUMMARY:Wacky First Wednesdays
DESCRIPTION:Join the Milwaukee Domes Alliance as we explore all things that frolic and fly! Join us in the Domes lobby on the first Wednesday of each month. Monthly themes relate to our current or upcoming Show Dome theme\, plants\, wellness and the great outdoors. No pre-registration required. \nCost: Included with admission; Free to Milwaukee Domes Alliance members (become a member)
URL:https://milwaukeedomes.org/event/family-programs-event-2-2-2/2026-01-07/
LOCATION:Mitchell Park Domes
CATEGORIES:Featurette,Ongoing Programs
ATTACH;FMTTYPE=image/jpeg:https://milwaukeedomes.org/wp-content/uploads/2022/09/firstfriday.jpg
ORGANIZER;CN="Milwaukee Domes Alliance":MAILTO:FOD@MilwaukeeDomes.org
END:VEVENT
BEGIN:VEVENT
DTSTART;TZID=America/Chicago:20251231T100000
DTEND;TZID=America/Chicago:20251231T103000
DTSTAMP:20260422T215340
CREATED:20231221T213823Z
LAST-MODIFIED:20250124T194954Z
UID:10001028-1767175200-1767177000@milwaukeedomes.org
SUMMARY:Bilingual Storytime at The Domes
DESCRIPTION:The Friends host storytime every Wednesday. Join us for bilingual (Spanish/English) storytime the last Wednesday of the month! No pre-registration required. \nCost: Included with admission; Free to Milwaukee Domes Alliance members (become a member)
URL:https://milwaukeedomes.org/event/bilingualstorytime-at-the-domes/2025-12-31/
LOCATION:Mitchell Park Domes
CATEGORIES:Ongoing Programs,Storytime
ATTACH;FMTTYPE=image/jpeg:https://milwaukeedomes.org/wp-content/uploads/2022/09/storytime.jpg
ORGANIZER;CN="Milwaukee Domes Alliance":MAILTO:FOD@MilwaukeeDomes.org
END:VEVENT
BEGIN:VEVENT
DTSTART;TZID=America/Chicago:20251227T130000
DTEND;TZID=America/Chicago:20251227T143000
DTSTAMP:20260422T215340
CREATED:20251103T223426Z
LAST-MODIFIED:20251204T213952Z
UID:10001272-1766840400-1766845800@milwaukeedomes.org
SUMMARY:Live Music: Milwaukee Jazz Institute Ensemble (Jazz)
DESCRIPTION:Enjoy live music amongst the beauty of the holiday show at the Domes.
URL:https://milwaukeedomes.org/event/live-music-milwaukee-jazz-institute-ensemble-jazz/
LOCATION:Mitchell Park Domes
CATEGORIES:General,Holiday
ATTACH;FMTTYPE=image/jpeg:https://milwaukeedomes.org/wp-content/uploads/2024/10/https___cdn.evbuc_.com_images_621492379_665371513023_1_original.jpg
END:VEVENT
BEGIN:VEVENT
DTSTART;TZID=America/Chicago:20251224T100000
DTEND;TZID=America/Chicago:20251224T103000
DTSTAMP:20260422T215340
CREATED:20231221T213052Z
LAST-MODIFIED:20231221T214115Z
UID:10000682-1766570400-1766572200@milwaukeedomes.org
SUMMARY:Storytime at The Domes
DESCRIPTION:The Friends host storytime every Wednesday. Join us for bilingual (Spanish/English) storytime the last Wednesday of the month! No pre-registration required. \nCost: Included with admission; Free to Milwaukee Domes Alliance members (become a member)
URL:https://milwaukeedomes.org/event/storytime-at-the-domes-2-2-2/2025-12-24/
LOCATION:Mitchell Park Domes
CATEGORIES:Ongoing Programs,Storytime
ATTACH;FMTTYPE=image/jpeg:https://milwaukeedomes.org/wp-content/uploads/2022/09/storytime.jpg
ORGANIZER;CN="Milwaukee Domes Alliance":MAILTO:FOD@MilwaukeeDomes.org
END:VEVENT
BEGIN:VEVENT
DTSTART;TZID=America/Chicago:20251217T100000
DTEND;TZID=America/Chicago:20251217T103000
DTSTAMP:20260422T215340
CREATED:20231221T213052Z
LAST-MODIFIED:20231221T214115Z
UID:10000681-1765965600-1765967400@milwaukeedomes.org
SUMMARY:Storytime at The Domes
DESCRIPTION:The Friends host storytime every Wednesday. Join us for bilingual (Spanish/English) storytime the last Wednesday of the month! No pre-registration required. \nCost: Included with admission; Free to Milwaukee Domes Alliance members (become a member)
URL:https://milwaukeedomes.org/event/storytime-at-the-domes-2-2-2/2025-12-17/
LOCATION:Mitchell Park Domes
CATEGORIES:Ongoing Programs,Storytime
ATTACH;FMTTYPE=image/jpeg:https://milwaukeedomes.org/wp-content/uploads/2022/09/storytime.jpg
ORGANIZER;CN="Milwaukee Domes Alliance":MAILTO:FOD@MilwaukeeDomes.org
END:VEVENT
BEGIN:VEVENT
DTSTART;TZID=America/Chicago:20251216T190000
DTEND;TZID=America/Chicago:20251216T200000
DTSTAMP:20260422T215340
CREATED:20251103T222543Z
LAST-MODIFIED:20251106T174432Z
UID:10001262-1765911600-1765915200@milwaukeedomes.org
SUMMARY:Live Music: Cream City Hot Club (Jazz)
DESCRIPTION:Enjoy jazz music from Cream City Hot Club among the holiday show with special late night hours at the Domes.
URL:https://milwaukeedomes.org/event/live-music-cream-city-hot-club-jazz/
LOCATION:Mitchell Park Domes
CATEGORIES:General,Holiday
ATTACH;FMTTYPE=image/jpeg:https://milwaukeedomes.org/wp-content/uploads/2024/10/https___cdn.evbuc_.com_images_621492379_665371513023_1_original.jpg
END:VEVENT
BEGIN:VEVENT
DTSTART;TZID=America/Chicago:20251210T100000
DTEND;TZID=America/Chicago:20251210T103000
DTSTAMP:20260422T215340
CREATED:20231221T213052Z
LAST-MODIFIED:20231221T214115Z
UID:10000680-1765360800-1765362600@milwaukeedomes.org
SUMMARY:Storytime at The Domes
DESCRIPTION:The Friends host storytime every Wednesday. Join us for bilingual (Spanish/English) storytime the last Wednesday of the month! No pre-registration required. \nCost: Included with admission; Free to Milwaukee Domes Alliance members (become a member)
URL:https://milwaukeedomes.org/event/storytime-at-the-domes-2-2-2/2025-12-10/
LOCATION:Mitchell Park Domes
CATEGORIES:Ongoing Programs,Storytime
ATTACH;FMTTYPE=image/jpeg:https://milwaukeedomes.org/wp-content/uploads/2022/09/storytime.jpg
ORGANIZER;CN="Milwaukee Domes Alliance":MAILTO:FOD@MilwaukeeDomes.org
END:VEVENT
BEGIN:VEVENT
DTSTART;TZID=America/Chicago:20251207T130000
DTEND;TZID=America/Chicago:20251207T140000
DTSTAMP:20260422T215340
CREATED:20251103T222206Z
LAST-MODIFIED:20251106T174345Z
UID:10001260-1765112400-1765116000@milwaukeedomes.org
SUMMARY:Live Music: Green Sails (Irish & Celtic Music)
DESCRIPTION:Enjoy live Irish & Celtic music from Green Sails surrounded by the beauty of the Domes.
URL:https://milwaukeedomes.org/event/live-music-green-sails-irish-celtic-music/
LOCATION:Mitchell Park Domes
CATEGORIES:General,Holiday
ATTACH;FMTTYPE=image/jpeg:https://milwaukeedomes.org/wp-content/uploads/2024/10/https___cdn.evbuc_.com_images_621492379_665371513023_1_original.jpg
END:VEVENT
BEGIN:VEVENT
DTSTART;TZID=America/Chicago:20251203T100000
DTEND;TZID=America/Chicago:20251203T103000
DTSTAMP:20260422T215340
CREATED:20231221T213242Z
LAST-MODIFIED:20251030T161019Z
UID:10000520-1764756000-1764757800@milwaukeedomes.org
SUMMARY:Wacky First Wednesdays
DESCRIPTION:Join the Milwaukee Domes Alliance as we explore all things that frolic and fly! Join us in the Domes lobby on the first Wednesday of each month. Monthly themes relate to our current or upcoming Show Dome theme\, plants\, wellness and the great outdoors. No pre-registration required. \nCost: Included with admission; Free to Milwaukee Domes Alliance members (become a member)
URL:https://milwaukeedomes.org/event/family-programs-event-2-2-2/2025-12-03/
LOCATION:Mitchell Park Domes
CATEGORIES:Featurette,Ongoing Programs
ATTACH;FMTTYPE=image/jpeg:https://milwaukeedomes.org/wp-content/uploads/2022/09/firstfriday.jpg
ORGANIZER;CN="Milwaukee Domes Alliance":MAILTO:FOD@MilwaukeeDomes.org
END:VEVENT
BEGIN:VEVENT
DTSTART;TZID=America/Chicago:20251130T090000
DTEND;TZID=America/Chicago:20251130T160000
DTSTAMP:20260422T215340
CREATED:20251103T221841Z
LAST-MODIFIED:20251103T221841Z
UID:10001259-1764493200-1764518400@milwaukeedomes.org
SUMMARY:Museum Store Sunday
DESCRIPTION:Shop with purpose on Museum Store Sunday\, Nov 30\, 2025. \n 
URL:https://milwaukeedomes.org/event/museum-store-sunday/
LOCATION:Mitchell Park Domes
CATEGORIES:General
ATTACH;FMTTYPE=image/jpeg:https://milwaukeedomes.org/wp-content/uploads/2023/05/IoniK-WQ-scaled-e1683580462135-1.jpeg
END:VEVENT
END:VCALENDAR